BEGIN:VCALENDAR
VERSION:2.0
PRODID:-//1. Tanzsport und Gesellschafts Club Redoute Koblenz und Neuwied e. V. - ECPv6.15.20//NONSGML v1.0//EN
CALSCALE:GREGORIAN
METHOD:PUBLISH
X-WR-CALNAME:1. Tanzsport und Gesellschafts Club Redoute Koblenz und Neuwied e. V.
X-ORIGINAL-URL:https://tgc-redoute.de
X-WR-CALDESC:Veranstaltungen für 1. Tanzsport und Gesellschafts Club Redoute Koblenz und Neuwied e. V.
REFRESH-INTERVAL;VALUE=DURATION:PT1H
X-Robots-Tag:noindex
X-PUBLISHED-TTL:PT1H
BEGIN:VTIMEZONE
TZID:Europe/Helsinki
BEGIN:DAYLIGHT
TZOFFSETFROM:+0200
TZOFFSETTO:+0300
TZNAME:EEST
DTSTART:20220327T010000
END:DAYLIGHT
BEGIN:STANDARD
TZOFFSETFROM:+0300
TZOFFSETTO:+0200
TZNAME:EET
DTSTART:20221030T010000
END:STANDARD
BEGIN:DAYLIGHT
TZOFFSETFROM:+0200
TZOFFSETTO:+0300
TZNAME:EEST
DTSTART:20230326T010000
END:DAYLIGHT
BEGIN:STANDARD
TZOFFSETFROM:+0300
TZOFFSETTO:+0200
TZNAME:EET
DTSTART:20231029T010000
END:STANDARD
BEGIN:DAYLIGHT
TZOFFSETFROM:+0200
TZOFFSETTO:+0300
TZNAME:EEST
DTSTART:20240331T010000
END:DAYLIGHT
BEGIN:STANDARD
TZOFFSETFROM:+0300
TZOFFSETTO:+0200
TZNAME:EET
DTSTART:20241027T010000
END:STANDARD
END:VTIMEZONE
BEGIN:VEVENT
DTSTART;TZID=Europe/Helsinki:20230909T120000
DTEND;TZID=Europe/Helsinki:20230909T180000
DTSTAMP:20260419T172505
CREATED:20230411T104309Z
LAST-MODIFIED:20240303T105839Z
UID:100097-1694260800-1694282400@tgc-redoute.de
SUMMARY:TRP Landesmeisterschaften Masters I und III\, D\, C\, B\, A\, S-Standard
DESCRIPTION:Zeitplan\n  \n\n\n\nBeginn\nStart­gruppe\nStart­klasse\n\n\n12:00 Uhr\nMas III\nD‑Standard\n\n\n12:30 Uhr\nMas I\nD‑Standard\n\n\n13:00 Uhr\nMas III\nC‑Standard\n\n\n13:30 Uhr\nMas I\nC‑Standard\n\n\n14:00 Uhr\nMas III\nB‑Standard\n\n\n14:30 Uhr\nMas I\nB‑Standard\n\n\n15:00 Uhr\nMas III\nA‑Standard\n\n\n15:45 Uhr\nMas I\nA‑Standard\n\n\n16:00 Uhr\nMas I\nS‑Standard\n\n\n16:15 Uhr\nMas III\nS‑Standard\n\n\n\n  \nEinhaltung der Kleiderordnung\n  \nAus gege­benem Anlass weise ich noch einmal ausdrücklich darauf hin\, dass die Klei­der­ordnung wie in der TSO gefordert (Klei­der­ordnung DTV bzw. WDSF) unbe­dingt einzu­halten ist. \nBei Verstößen gegen die Klei­der­ordnung hat der Turnier­leiter bzw. die Chair­person das Recht\, Paare von der Teil­nahme auszu­schließen. Die Regeln der Klei­der­ordnung sind wie folgt nach­zu­lesen: \nhttps://www.tanzsport.de/files/tanzsport/downloads/sportwelt/sportbetrieb/kleiderordnung-tso.pdf \nDTV-Kleiderordnung: Anhang 1.1 der TSO WDSF-Kleiderordnung: Anhang 1.2 der TSO \n  \nMichael Gewehr\, TRP-Sportwart \n 
URL:https://tgc-redoute.de/event/landesmeisterschaften-der-masters-i-und-iii-standard/
LOCATION:Clubheim TGC Redoute\, Am Metternicher Bahnhof 24\, Koblenz\, Rheinland-Pfalz\, 56072\, Deutschland
CATEGORIES:Turniere
ATTACH;FMTTYPE=image/jpeg:https://tgc-redoute.de/wp-content/uploads/2023/04/TGC-Hallen.jpg
END:VEVENT
END:VCALENDAR