BEGIN:VCALENDAR
VERSION:2.0
PRODID:-//1. Tanzsport und Gesellschafts Club Redoute Koblenz und Neuwied e. V. - ECPv6.15.20//NONSGML v1.0//EN
CALSCALE:GREGORIAN
METHOD:PUBLISH
X-WR-CALNAME:1. Tanzsport und Gesellschafts Club Redoute Koblenz und Neuwied e. V.
X-ORIGINAL-URL:https://tgc-redoute.de
X-WR-CALDESC:Veranstaltungen für 1. Tanzsport und Gesellschafts Club Redoute Koblenz und Neuwied e. V.
REFRESH-INTERVAL;VALUE=DURATION:PT1H
X-Robots-Tag:noindex
X-PUBLISHED-TTL:PT1H
BEGIN:VTIMEZONE
TZID:Europe/Helsinki
BEGIN:DAYLIGHT
TZOFFSETFROM:+0200
TZOFFSETTO:+0300
TZNAME:EEST
DTSTART:20220327T010000
END:DAYLIGHT
BEGIN:STANDARD
TZOFFSETFROM:+0300
TZOFFSETTO:+0200
TZNAME:EET
DTSTART:20221030T010000
END:STANDARD
BEGIN:DAYLIGHT
TZOFFSETFROM:+0200
TZOFFSETTO:+0300
TZNAME:EEST
DTSTART:20230326T010000
END:DAYLIGHT
BEGIN:STANDARD
TZOFFSETFROM:+0300
TZOFFSETTO:+0200
TZNAME:EET
DTSTART:20231029T010000
END:STANDARD
BEGIN:DAYLIGHT
TZOFFSETFROM:+0200
TZOFFSETTO:+0300
TZNAME:EEST
DTSTART:20240331T010000
END:DAYLIGHT
BEGIN:STANDARD
TZOFFSETFROM:+0300
TZOFFSETTO:+0200
TZNAME:EET
DTSTART:20241027T010000
END:STANDARD
END:VTIMEZONE
BEGIN:VEVENT
DTSTART;TZID=Europe/Helsinki:20230916T140000
DTEND;TZID=Europe/Helsinki:20230916T180000
DTSTAMP:20260419T174339
CREATED:20230409T130827Z
LAST-MODIFIED:20240303T105835Z
UID:99895-1694872800-1694887200@tgc-redoute.de
SUMMARY:Tag der offenen Tür
DESCRIPTION:Genießen Sie bei Kaffee und Kuchen die Tanzvorführungen.\nGestärkt können Sie selbst aktiv werden.\n			\n				Download Flyer
URL:https://tgc-redoute.de/event/tag-der-offenen-tuer/
LOCATION:Clubheim TGC Redoute\, Am Metternicher Bahnhof 24\, Koblenz\, Rheinland-Pfalz\, 56072\, Deutschland
CATEGORIES:Öffentliche Veranstaltungen
ATTACH;FMTTYPE=image/jpeg:https://tgc-redoute.de/wp-content/uploads/2023/04/TGC-Hallen.jpg
END:VEVENT
END:VCALENDAR