BEGIN:VCALENDAR
VERSION:2.0
PRODID:-//1. Tanzsport und Gesellschafts Club Redoute Koblenz und Neuwied e. V. - ECPv6.15.20//NONSGML v1.0//EN
CALSCALE:GREGORIAN
METHOD:PUBLISH
X-WR-CALNAME:1. Tanzsport und Gesellschafts Club Redoute Koblenz und Neuwied e. V.
X-ORIGINAL-URL:https://tgc-redoute.de
X-WR-CALDESC:Veranstaltungen für 1. Tanzsport und Gesellschafts Club Redoute Koblenz und Neuwied e. V.
REFRESH-INTERVAL;VALUE=DURATION:PT1H
X-Robots-Tag:noindex
X-PUBLISHED-TTL:PT1H
BEGIN:VTIMEZONE
TZID:Europe/Helsinki
BEGIN:DAYLIGHT
TZOFFSETFROM:+0200
TZOFFSETTO:+0300
TZNAME:EEST
DTSTART:20250330T010000
END:DAYLIGHT
BEGIN:STANDARD
TZOFFSETFROM:+0300
TZOFFSETTO:+0200
TZNAME:EET
DTSTART:20251026T010000
END:STANDARD
BEGIN:DAYLIGHT
TZOFFSETFROM:+0200
TZOFFSETTO:+0300
TZNAME:EEST
DTSTART:20260329T010000
END:DAYLIGHT
BEGIN:STANDARD
TZOFFSETFROM:+0300
TZOFFSETTO:+0200
TZNAME:EET
DTSTART:20261025T010000
END:STANDARD
BEGIN:DAYLIGHT
TZOFFSETFROM:+0200
TZOFFSETTO:+0300
TZNAME:EEST
DTSTART:20270328T010000
END:DAYLIGHT
BEGIN:STANDARD
TZOFFSETFROM:+0300
TZOFFSETTO:+0200
TZNAME:EET
DTSTART:20271031T010000
END:STANDARD
END:VTIMEZONE
BEGIN:VEVENT
DTSTART;TZID=Europe/Helsinki:20260430T200000
DTEND;TZID=Europe/Helsinki:20260501T010000
DTSTAMP:20260421T111433
CREATED:20260420T120912Z
LAST-MODIFIED:20260420T200313Z
UID:104150-1777579200-1777597200@tgc-redoute.de
SUMMARY:Tanz in den Mai 2026
DESCRIPTION:Liebe Mitglieder\, \nwir laden euch alle ganz herzlich zum „Tanz in den Mai“ am 30. April ab 20:00 Uhr in unserem Vereinsheim ein. Die Veran­staltung soll wie unser regel­mä­ßiger Tanz­treff durch­ge­führt werden.Das bedeutet: wir legen Musik zum Tanzen auf und besetzen die Theke für den Geträn­ke­verkauf\, sodass wir gemeinsam einen schönen Abend verbringen können. Speisen und Knab­ber­gebäck kann jeder nach seinem Geschmack mitbringen.Für unsere Planung müssen wir wissen\, wer von euch mit uns in den Mai tanzen will und wer bei Aufbau und Durch­führung mithelfen kann.Daher bitten wir euch\, um schnellst­mög­liche Anmeldung im Portal und in den ausge­hängten Listen. Die Linedance-Abteilung wird ihre Veran­staltung in der rechten Halle durch­führen.Wir freuen uns auf einen unter­halt­samen Abend! \nViele Grüßefür den VorstandUlrich Kuss
URL:https://tgc-redoute.de/event/tanz-in-den-mai-2026/
LOCATION:Clubheim TGC Redoute\, Am Metternicher Bahnhof 24\, Koblenz\, Rheinland-Pfalz\, 56072\, Deutschland
CATEGORIES:Vereinsinterne Veranstaltungen
ATTACH;FMTTYPE=image/png:https://tgc-redoute.de/wp-content/uploads/2026/04/tanz-in-den-mai.png
END:VEVENT
BEGIN:VEVENT
DTSTART;TZID=Europe/Helsinki:20260503T153000
DTEND;TZID=Europe/Helsinki:20260503T173000
DTSTAMP:20260421T111433
CREATED:20260419T174043Z
LAST-MODIFIED:20260419T174043Z
UID:104323-1777822200-1777829400@tgc-redoute.de
SUMMARY:Tanztreff
DESCRIPTION:An ausge­wählten Sonn­tagen von 15:30 — 17:30 Uhr bieten wir in der linken Halle des Club­heims Übungstanz­treffs bei Kaffee und Kuchen an. Einge­laden sind Club­mit­glieder\, die das Gelernte in lockerer Atmo­sphäre einüben wollen\, und inter­es­sierte Gäste\, die unseren Club kennen­lernen möchten. \nEs werden alle Rhythmen gespielt: vom Lang­samen Walzer über Cha Cha bis zum Discofox. Es ergeben sich viele Gele­gen­heiten für Gespräche und manch einer hat bei dieser Gele­genheit schon seinen künf­tigen Tanz­partner oder künftige Tanz­part­nerin gefunden. \nDer Tanz­treff wird immer von einem Turnierpaar der Redoute betreut\, das bei Bedarf tänze­rische Hilfe­stellung leisten oder Infor­ma­tionen zum Clubangebot geben kann.
URL:https://tgc-redoute.de/event/tanztreff-3/
LOCATION:Clubheim TGC Redoute\, linke Halle
CATEGORIES:Tanztreff
ATTACH;FMTTYPE=image/jpeg:https://tgc-redoute.de/wp-content/uploads/2023/06/tgc_header_3.jpg
END:VEVENT
END:VCALENDAR